BEGIN:VCALENDAR
VERSION:2.0
PRODID:-//Kleiner Dahlkamp e.V. - ECPv6.15.20//NONSGML v1.0//EN
CALSCALE:GREGORIAN
METHOD:PUBLISH
X-ORIGINAL-URL:https://www.kleinerdahlkamp.de
X-WR-CALDESC:Veranstaltungen für Kleiner Dahlkamp e.V.
REFRESH-INTERVAL;VALUE=DURATION:PT1H
X-Robots-Tag:noindex
X-PUBLISHED-TTL:PT1H
BEGIN:VTIMEZONE
TZID:Europe/Berlin
BEGIN:DAYLIGHT
TZOFFSETFROM:+0100
TZOFFSETTO:+0200
TZNAME:CEST
DTSTART:20250330T010000
END:DAYLIGHT
BEGIN:STANDARD
TZOFFSETFROM:+0200
TZOFFSETTO:+0100
TZNAME:CET
DTSTART:20251026T010000
END:STANDARD
BEGIN:DAYLIGHT
TZOFFSETFROM:+0100
TZOFFSETTO:+0200
TZNAME:CEST
DTSTART:20260329T010000
END:DAYLIGHT
BEGIN:STANDARD
TZOFFSETFROM:+0200
TZOFFSETTO:+0100
TZNAME:CET
DTSTART:20261025T010000
END:STANDARD
BEGIN:DAYLIGHT
TZOFFSETFROM:+0100
TZOFFSETTO:+0200
TZNAME:CEST
DTSTART:20270328T010000
END:DAYLIGHT
BEGIN:STANDARD
TZOFFSETFROM:+0200
TZOFFSETTO:+0100
TZNAME:CET
DTSTART:20271031T010000
END:STANDARD
END:VTIMEZONE
BEGIN:VEVENT
DTSTART;TZID=Europe/Berlin:20260704T090000
DTEND;TZID=Europe/Berlin:20260704T090000
DTSTAMP:20260421T193904
CREATED:20241120T152613Z
LAST-MODIFIED:20251214T213724Z
UID:15837-1783155600-1783155600@www.kleinerdahlkamp.de
SUMMARY:Gemeinschaftsarbeit
DESCRIPTION:Denkt bitte daran eure Karte für die Gemeinschaftsstunden mitzubringen. \nGeplante Arbeiten \n\n\n\nWichtiger Hinweis \nDer Ansprechpartner wartet bis 09:30 Uhr\, sollte bis zu dem Zeitpunkt keiner anwesend sein\, fällt die Gemeinschaftsarbeit an diesem Tag aus. Sollte jemand erst später Zeit haben gebt bitte vorher dem Ansprechpartner Bescheid.
URL:https://www.kleinerdahlkamp.de/event/gemeinschaftsarbeit-5/
LOCATION:Vereinshaus
CATEGORIES:Gemeinschaftsarbeit
END:VEVENT
BEGIN:VEVENT
DTSTART;TZID=Europe/Berlin:20260710T170000
DTEND;TZID=Europe/Berlin:20260710T170000
DTSTAMP:20260421T193904
CREATED:20250111T174726Z
LAST-MODIFIED:20260221T123933Z
UID:15946-1783702800-1783702800@www.kleinerdahlkamp.de
SUMMARY:Gartenfreunde - Gartenspaziergang
DESCRIPTION:
URL:https://www.kleinerdahlkamp.de/event/gartenfreunde-gartenspaziergang/
LOCATION:Vereinshaus
CATEGORIES:Gartenfreunde
END:VEVENT
BEGIN:VEVENT
DTSTART;TZID=Europe/Berlin:20260627T150000
DTEND;TZID=Europe/Berlin:20260627T150000
DTSTAMP:20260421T193904
CREATED:20241120T145346Z
LAST-MODIFIED:20260121T223541Z
UID:15818-1782572400-1782572400@www.kleinerdahlkamp.de
SUMMARY:Sommerfest & Gartenolympiade
DESCRIPTION:
URL:https://www.kleinerdahlkamp.de/event/sommerfest-gartenolympiade/
CATEGORIES:Veranstaltung
END:VEVENT
END:VCALENDAR