BEGIN:VCALENDAR
VERSION:2.0
PRODID:-//Kleiner Dahlkamp e.V. - ECPv6.15.20//NONSGML v1.0//EN
CALSCALE:GREGORIAN
METHOD:PUBLISH
X-ORIGINAL-URL:https://www.kleinerdahlkamp.de
X-WR-CALDESC:Veranstaltungen für Kleiner Dahlkamp e.V.
REFRESH-INTERVAL;VALUE=DURATION:PT1H
X-Robots-Tag:noindex
X-PUBLISHED-TTL:PT1H
BEGIN:VTIMEZONE
TZID:Europe/Berlin
BEGIN:DAYLIGHT
TZOFFSETFROM:+0100
TZOFFSETTO:+0200
TZNAME:CEST
DTSTART:20250330T010000
END:DAYLIGHT
BEGIN:STANDARD
TZOFFSETFROM:+0200
TZOFFSETTO:+0100
TZNAME:CET
DTSTART:20251026T010000
END:STANDARD
BEGIN:DAYLIGHT
TZOFFSETFROM:+0100
TZOFFSETTO:+0200
TZNAME:CEST
DTSTART:20260329T010000
END:DAYLIGHT
BEGIN:STANDARD
TZOFFSETFROM:+0200
TZOFFSETTO:+0100
TZNAME:CET
DTSTART:20261025T010000
END:STANDARD
BEGIN:DAYLIGHT
TZOFFSETFROM:+0100
TZOFFSETTO:+0200
TZNAME:CEST
DTSTART:20270328T010000
END:DAYLIGHT
BEGIN:STANDARD
TZOFFSETFROM:+0200
TZOFFSETTO:+0100
TZNAME:CET
DTSTART:20271031T010000
END:STANDARD
END:VTIMEZONE
BEGIN:VEVENT
DTSTART;TZID=Europe/Berlin:20260502T090000
DTEND;TZID=Europe/Berlin:20260502T090000
DTSTAMP:20260421T134031
CREATED:20241120T152406Z
LAST-MODIFIED:20251214T213509Z
UID:15831-1777712400-1777712400@www.kleinerdahlkamp.de
SUMMARY:Gemeinschaftsarbeit
DESCRIPTION:Denkt bitte daran eure Karte für die Gemeinschaftsstunden mitzubringen. \nGeplante Arbeiten \n\n\n\nWichtiger Hinweis \nDer Ansprechpartner wartet bis 09:30 Uhr\, sollte bis zu dem Zeitpunkt keiner anwesend sein\, fällt die Gemeinschaftsarbeit an diesem Tag aus. Sollte jemand erst später Zeit haben gebt bitte vorher dem Ansprechpartner Bescheid.
URL:https://www.kleinerdahlkamp.de/event/gemeinschaftsarbeit-3/
LOCATION:Vereinshaus
CATEGORIES:Gemeinschaftsarbeit
END:VEVENT
BEGIN:VEVENT
DTSTART;TZID=Europe/Berlin:20260508T170000
DTEND;TZID=Europe/Berlin:20260508T170000
DTSTAMP:20260421T134031
CREATED:20250111T174823Z
LAST-MODIFIED:20260221T123832Z
UID:15948-1778259600-1778259600@www.kleinerdahlkamp.de
SUMMARY:Gartenfreunde - Gartenspaziergang
DESCRIPTION:
URL:https://www.kleinerdahlkamp.de/event/gartenfreunde-gartenspaziergang-2/
LOCATION:Vereinshaus
CATEGORIES:Gartenfreunde
END:VEVENT
BEGIN:VEVENT
DTSTART;TZID=Europe/Berlin:20260530T140000
DTEND;TZID=Europe/Berlin:20260530T140000
DTSTAMP:20260421T134031
CREATED:20241120T145258Z
LAST-MODIFIED:20251214T211639Z
UID:15816-1780149600-1780149600@www.kleinerdahlkamp.de
SUMMARY:Kinderfest
DESCRIPTION:
URL:https://www.kleinerdahlkamp.de/event/kinderfest/
LOCATION:Vereinshaus
CATEGORIES:Veranstaltung
END:VEVENT
BEGIN:VEVENT
DTSTART;TZID=Europe/Berlin:20260606T090000
DTEND;TZID=Europe/Berlin:20260606T090000
DTSTAMP:20260421T134031
CREATED:20241120T152531Z
LAST-MODIFIED:20251214T213609Z
UID:15834-1780736400-1780736400@www.kleinerdahlkamp.de
SUMMARY:Gemeinschaftsarbeit
DESCRIPTION:Denkt bitte daran eure Karte für die Gemeinschaftsstunden mitzubringen. \nGeplante Arbeiten \n\n\n\nWichtiger Hinweis \nDer Ansprechpartner wartet bis 09:30 Uhr\, sollte bis zu dem Zeitpunkt keiner anwesend sein\, fällt die Gemeinschaftsarbeit an diesem Tag aus. Sollte jemand erst später Zeit haben gebt bitte vorher dem Ansprechpartner Bescheid.
URL:https://www.kleinerdahlkamp.de/event/gemeinschaftsarbeit-4/
LOCATION:Vereinshaus
CATEGORIES:Gemeinschaftsarbeit
END:VEVENT
BEGIN:VEVENT
DTSTART;TZID=Europe/Berlin:20260704T090000
DTEND;TZID=Europe/Berlin:20260704T090000
DTSTAMP:20260421T134031
CREATED:20241120T152613Z
LAST-MODIFIED:20251214T213724Z
UID:15837-1783155600-1783155600@www.kleinerdahlkamp.de
SUMMARY:Gemeinschaftsarbeit
DESCRIPTION:Denkt bitte daran eure Karte für die Gemeinschaftsstunden mitzubringen. \nGeplante Arbeiten \n\n\n\nWichtiger Hinweis \nDer Ansprechpartner wartet bis 09:30 Uhr\, sollte bis zu dem Zeitpunkt keiner anwesend sein\, fällt die Gemeinschaftsarbeit an diesem Tag aus. Sollte jemand erst später Zeit haben gebt bitte vorher dem Ansprechpartner Bescheid.
URL:https://www.kleinerdahlkamp.de/event/gemeinschaftsarbeit-5/
LOCATION:Vereinshaus
CATEGORIES:Gemeinschaftsarbeit
END:VEVENT
BEGIN:VEVENT
DTSTART;TZID=Europe/Berlin:20260710T170000
DTEND;TZID=Europe/Berlin:20260710T170000
DTSTAMP:20260421T134031
CREATED:20250111T174726Z
LAST-MODIFIED:20260221T123933Z
UID:15946-1783702800-1783702800@www.kleinerdahlkamp.de
SUMMARY:Gartenfreunde - Gartenspaziergang
DESCRIPTION:
URL:https://www.kleinerdahlkamp.de/event/gartenfreunde-gartenspaziergang/
LOCATION:Vereinshaus
CATEGORIES:Gartenfreunde
END:VEVENT
BEGIN:VEVENT
DTSTART;TZID=Europe/Berlin:20260627T150000
DTEND;TZID=Europe/Berlin:20260627T150000
DTSTAMP:20260421T134031
CREATED:20241120T145346Z
LAST-MODIFIED:20260121T223541Z
UID:15818-1782572400-1782572400@www.kleinerdahlkamp.de
SUMMARY:Sommerfest & Gartenolympiade
DESCRIPTION:
URL:https://www.kleinerdahlkamp.de/event/sommerfest-gartenolympiade/
CATEGORIES:Veranstaltung
END:VEVENT
BEGIN:VEVENT
DTSTART;TZID=Europe/Berlin:20260801T090000
DTEND;TZID=Europe/Berlin:20260801T090000
DTSTAMP:20260421T134031
CREATED:20241120T152649Z
LAST-MODIFIED:20251214T213855Z
UID:15839-1785574800-1785574800@www.kleinerdahlkamp.de
SUMMARY:Gemeinschaftsarbeit
DESCRIPTION:Denkt bitte daran eure Karte für die Gemeinschaftsstunden mitzubringen. \nGeplante Arbeiten \n\n\n\nWichtiger Hinweis \nDer Ansprechpartner wartet bis 09:30 Uhr\, sollte bis zu dem Zeitpunkt keiner anwesend sein\, fällt die Gemeinschaftsarbeit an diesem Tag aus. Sollte jemand erst später Zeit haben gebt bitte vorher dem Ansprechpartner Bescheid.
URL:https://www.kleinerdahlkamp.de/event/gemeinschaftsarbeit-6/
LOCATION:Vereinshaus
CATEGORIES:Gemeinschaftsarbeit
END:VEVENT
BEGIN:VEVENT
DTSTART;VALUE=DATE:20260815
DTEND;VALUE=DATE:20260816
DTSTAMP:20260421T134031
CREATED:20241120T131609Z
LAST-MODIFIED:20251214T214929Z
UID:15770-1786752000-1786838399@www.kleinerdahlkamp.de
SUMMARY:Zahlungstermin - Strom
DESCRIPTION:An diesem Termin ziehen wir die Stromrechnung für euren Garten per Sepa-Lastschrift ein. \nFalls Ihr uns kein Sepa-Mandat gegeben habt\, denkt bitte daran den Rechnungsbetrag zu überweisen.
URL:https://www.kleinerdahlkamp.de/event/zahlungstermin-strom/
CATEGORIES:Rechnung,Zahlungstermin
END:VEVENT
BEGIN:VEVENT
DTSTART;TZID=Europe/Berlin:20260905T090000
DTEND;TZID=Europe/Berlin:20260905T090000
DTSTAMP:20260421T134031
CREATED:20241120T152721Z
LAST-MODIFIED:20251214T213927Z
UID:15841-1788598800-1788598800@www.kleinerdahlkamp.de
SUMMARY:Gemeinschaftsarbeit
DESCRIPTION:Denkt bitte daran eure Karte für die Gemeinschaftsstunden mitzubringen. \nGeplante Arbeiten \n\n\n\nWichtiger Hinweis \nDer Ansprechpartner wartet bis 09:30 Uhr\, sollte bis zu dem Zeitpunkt keiner anwesend sein\, fällt die Gemeinschaftsarbeit an diesem Tag aus. Sollte jemand erst später Zeit haben gebt bitte vorher dem Ansprechpartner Bescheid.
URL:https://www.kleinerdahlkamp.de/event/gemeinschaftsarbeit-7/
LOCATION:Vereinshaus
CATEGORIES:Gemeinschaftsarbeit
END:VEVENT
BEGIN:VEVENT
DTSTART;TZID=Europe/Berlin:20260905T150000
DTEND;TZID=Europe/Berlin:20260905T150000
DTSTAMP:20260421T134031
CREATED:20241120T145443Z
LAST-MODIFIED:20251214T211805Z
UID:15820-1788620400-1788620400@www.kleinerdahlkamp.de
SUMMARY:Reibekuchenessen
DESCRIPTION:
URL:https://www.kleinerdahlkamp.de/event/reibekuchenessen/
LOCATION:Vereinshaus
CATEGORIES:Veranstaltung
END:VEVENT
BEGIN:VEVENT
DTSTART;VALUE=DATE:20260915
DTEND;VALUE=DATE:20260916
DTSTAMP:20260421T134031
CREATED:20241120T131802Z
LAST-MODIFIED:20251214T215004Z
UID:15772-1789430400-1789516799@www.kleinerdahlkamp.de
SUMMARY:Zahlungstermin - Pacht
DESCRIPTION:An diesem Termin ziehen wir die Pacht für euren Garten per Sepa-Lastschrift ein. \nFalls Ihr uns kein Sepa-Mandat gegeben habt\, denkt bitte daran den Rechnungsbetrag zu überweisen.
URL:https://www.kleinerdahlkamp.de/event/zahlungstermin-pacht/
CATEGORIES:Rechnung,Zahlungstermin
END:VEVENT
BEGIN:VEVENT
DTSTART;TZID=Europe/Berlin:20260918T170000
DTEND;TZID=Europe/Berlin:20260918T170000
DTSTAMP:20260421T134031
CREATED:20260221T124142Z
LAST-MODIFIED:20260221T124142Z
UID:16085-1789750800-1789750800@www.kleinerdahlkamp.de
SUMMARY:Gartenfreunde – Gartenspaziergang
DESCRIPTION:
URL:https://www.kleinerdahlkamp.de/event/gartenfreunde-gartenspaziergang-3/
LOCATION:Vereinshaus
CATEGORIES:Gartenfreunde
END:VEVENT
BEGIN:VEVENT
DTSTART;TZID=Europe/Berlin:20261010T090000
DTEND;TZID=Europe/Berlin:20261010T090000
DTSTAMP:20260421T134031
CREATED:20241120T152806Z
LAST-MODIFIED:20251214T213959Z
UID:15843-1791622800-1791622800@www.kleinerdahlkamp.de
SUMMARY:Gemeinschaftsarbeit
DESCRIPTION:Denkt bitte daran eure Karte für die Gemeinschaftsstunden mitzubringen. \nGeplante Arbeiten \n\n\n\nWichtiger Hinweis \nDer Ansprechpartner wartet bis 09:30 Uhr\, sollte bis zu dem Zeitpunkt keiner anwesend sein\, fällt die Gemeinschaftsarbeit an diesem Tag aus. Sollte jemand erst später Zeit haben gebt bitte vorher dem Ansprechpartner Bescheid.
URL:https://www.kleinerdahlkamp.de/event/gemeinschaftsarbeit-8/
LOCATION:Vereinshaus
CATEGORIES:Gemeinschaftsarbeit
END:VEVENT
BEGIN:VEVENT
DTSTART;TZID=Europe/Berlin:20261107T090000
DTEND;TZID=Europe/Berlin:20261107T180000
DTSTAMP:20260421T134031
CREATED:20241120T134508Z
LAST-MODIFIED:20251214T214747Z
UID:15780-1794042000-1794074400@www.kleinerdahlkamp.de
SUMMARY:Container & Komposterde
DESCRIPTION:Am Samstag steht ab 09:00 Uhr sowohl ein Häcksler\, also auch ein Container für Grün- und Schnittgut bereit.
URL:https://www.kleinerdahlkamp.de/event/container-und-haecksler/
LOCATION:Parkplatz
CATEGORIES:Container,Häcksler
END:VEVENT
BEGIN:VEVENT
DTSTART;TZID=Europe/Berlin:20261212T150000
DTEND;TZID=Europe/Berlin:20261212T150000
DTSTAMP:20260421T134031
CREATED:20241120T145652Z
LAST-MODIFIED:20251214T215210Z
UID:15826-1797087600-1797087600@www.kleinerdahlkamp.de
SUMMARY:Weihnachtsmarkt & Nikolausfeier
DESCRIPTION:Anmeldung hier
URL:https://www.kleinerdahlkamp.de/event/weihnachtsmarkt-nikolausfeier/
LOCATION:Vereinshaus
CATEGORIES:Veranstaltung
END:VEVENT
END:VCALENDAR