BEGIN:VCALENDAR
VERSION:2.0
PRODID:-//Kleiner Dahlkamp e.V. - ECPv6.15.20//NONSGML v1.0//EN
CALSCALE:GREGORIAN
METHOD:PUBLISH
X-WR-CALNAME:Kleiner Dahlkamp e.V.
X-ORIGINAL-URL:https://www.kleinerdahlkamp.de
X-WR-CALDESC:Veranstaltungen für Kleiner Dahlkamp e.V.
REFRESH-INTERVAL;VALUE=DURATION:PT1H
X-Robots-Tag:noindex
X-PUBLISHED-TTL:PT1H
BEGIN:VTIMEZONE
TZID:Europe/Berlin
BEGIN:DAYLIGHT
TZOFFSETFROM:+0100
TZOFFSETTO:+0200
TZNAME:CEST
DTSTART:20250330T010000
END:DAYLIGHT
BEGIN:STANDARD
TZOFFSETFROM:+0200
TZOFFSETTO:+0100
TZNAME:CET
DTSTART:20251026T010000
END:STANDARD
BEGIN:DAYLIGHT
TZOFFSETFROM:+0100
TZOFFSETTO:+0200
TZNAME:CEST
DTSTART:20260329T010000
END:DAYLIGHT
BEGIN:STANDARD
TZOFFSETFROM:+0200
TZOFFSETTO:+0100
TZNAME:CET
DTSTART:20261025T010000
END:STANDARD
BEGIN:DAYLIGHT
TZOFFSETFROM:+0100
TZOFFSETTO:+0200
TZNAME:CEST
DTSTART:20270328T010000
END:DAYLIGHT
BEGIN:STANDARD
TZOFFSETFROM:+0200
TZOFFSETTO:+0100
TZNAME:CET
DTSTART:20271031T010000
END:STANDARD
END:VTIMEZONE
BEGIN:VEVENT
DTSTART;TZID=Europe/Berlin:20260411T140000
DTEND;TZID=Europe/Berlin:20260411T170000
DTSTAMP:20260421T133811
CREATED:20250111T175041Z
LAST-MODIFIED:20260221T123629Z
UID:15952-1775916000-1775926800@www.kleinerdahlkamp.de
SUMMARY:Gartenfreunde - Jungpflanzen und Saatgutbörse
DESCRIPTION:
URL:https://www.kleinerdahlkamp.de/event/gartenfreunde-staudenboerse/
LOCATION:Vereinshaus
CATEGORIES:Gartenfreunde
END:VEVENT
BEGIN:VEVENT
DTSTART;TZID=Europe/Berlin:20260404T090000
DTEND;TZID=Europe/Berlin:20260404T090000
DTSTAMP:20260421T133811
CREATED:20241119T235715Z
LAST-MODIFIED:20260403T161846Z
UID:15713-1775293200-1775293200@www.kleinerdahlkamp.de
SUMMARY:Gemeinschaftsarbeit
DESCRIPTION:Denkt bitte daran eure Karte für die Gemeinschaftsstunden mitzubringen. \nGeplante Arbeiten \n\nParkplatz reinigen\nFahrradständer aufbauen\n\nWichtiger Hinweis \nDer Ansprechpartner wartet bis 09:30 Uhr\, sollte bis zu dem Zeitpunkt keiner anwesend sein\, fällt die Gemeinschaftsarbeit an diesem Tag aus. Sollte jemand erst später Zeit haben gebt bitte vorher dem Ansprechpartner Bescheid.
URL:https://www.kleinerdahlkamp.de/event/gemeinschaftsarbeit-2/
LOCATION:Vereinshaus
CATEGORIES:Gemeinschaftsarbeit
END:VEVENT
BEGIN:VEVENT
DTSTART;TZID=Europe/Berlin:20260403T140000
DTEND;TZID=Europe/Berlin:20260403T140000
DTSTAMP:20260421T133811
CREATED:20241120T145203Z
LAST-MODIFIED:20251214T211451Z
UID:15814-1775224800-1775224800@www.kleinerdahlkamp.de
SUMMARY:Struwenessen
DESCRIPTION:
URL:https://www.kleinerdahlkamp.de/event/struwenessen/
LOCATION:Vereinshaus
CATEGORIES:Veranstaltung
END:VEVENT
BEGIN:VEVENT
DTSTART;TZID=Europe/Berlin:20260328T090000
DTEND;TZID=Europe/Berlin:20260328T090000
DTSTAMP:20260421T133811
CREATED:20241120T134329Z
LAST-MODIFIED:20251214T214705Z
UID:15778-1774688400-1774688400@www.kleinerdahlkamp.de
SUMMARY:Container & Komposterde
DESCRIPTION:Am Samstag steht ab 09:00 Uhr sowohl ein Häcksler\, also auch ein Container für Grün- und Schnittgut bereit.
URL:https://www.kleinerdahlkamp.de/event/container-komposterde/
LOCATION:Parkplatz
CATEGORIES:Container,Häcksler,Komposterde
END:VEVENT
BEGIN:VEVENT
DTSTART;VALUE=DATE:20260315
DTEND;VALUE=DATE:20260316
DTSTAMP:20260421T133811
CREATED:20241120T004518Z
LAST-MODIFIED:20251214T214850Z
UID:15736-1773532800-1773619199@www.kleinerdahlkamp.de
SUMMARY:Zahlungstermin - Mitgliedsbeitrag & Gemeinschaftsstunden
DESCRIPTION:An diesem Termin ziehen wir euren Mitgliedsbeitrag und den Gegenwert der nicht geleisteten Gemeinschaftsstunden per Sepa-Lastschrift ein. \nFalls Ihr uns kein Sepa-Mandat gegeben habt\, denkt bitte daran den Rechnungsbetrag zu überweisen.
URL:https://www.kleinerdahlkamp.de/event/mitgliedsbeitrag-offene-gemeinschaftsstunden/
CATEGORIES:Rechnung,Zahlungstermin
END:VEVENT
BEGIN:VEVENT
DTSTART;TZID=Europe/Berlin:20260313T190000
DTEND;TZID=Europe/Berlin:20260313T190000
DTSTAMP:20260421T133811
CREATED:20250111T174629Z
LAST-MODIFIED:20260306T000353Z
UID:15942-1773428400-1773428400@www.kleinerdahlkamp.de
SUMMARY:Gartenfreunde - Bodengesundheit
DESCRIPTION:Vortrag: Bodengesundheit\, alte Sorten\, ewiges Gemüse – Gärtnern für Faule
URL:https://www.kleinerdahlkamp.de/event/gartenfreunde-wildkraeuter-im-fruehling/
LOCATION:Vereinshaus
CATEGORIES:Gartenfreunde
END:VEVENT
BEGIN:VEVENT
DTSTART;TZID=Europe/Berlin:20260307T090000
DTEND;TZID=Europe/Berlin:20260307T090000
DTSTAMP:20260421T133811
CREATED:20241119T232018Z
LAST-MODIFIED:20260303T233922Z
UID:15690-1772874000-1772874000@www.kleinerdahlkamp.de
SUMMARY:Gemeinschaftsarbeit
DESCRIPTION:Denkt bitte daran eure Karte für die Gemeinschaftsstunden mitzubringen. \nGeplante Arbeiten \n\nParkplatz (Laub entfernen)\n„Gastank“ (Laub entfernen)\nFahrradständer (Laub entfernen)\n„Vereinshauswiese“ sauber machen\nSonnensegel austauschen\n\nWichtiger Hinweis \nDer Ansprechpartner wartet bis 09:30 Uhr\, sollte bis zu dem Zeitpunkt keiner anwesend sein\, fällt die Gemeinschaftsarbeit an diesem Tag aus. Sollte jemand erst später Zeit haben gebt bitte vorher dem Ansprechpartner Bescheid.
URL:https://www.kleinerdahlkamp.de/event/gemeinschaftsarbeit/
LOCATION:Vereinshaus
CATEGORIES:Gemeinschaftsarbeit
END:VEVENT
BEGIN:VEVENT
DTSTART;TZID=Europe/Berlin:20260221T140000
DTEND;TZID=Europe/Berlin:20260221T140000
DTSTAMP:20260421T133811
CREATED:20241120T142541Z
LAST-MODIFIED:20251214T211356Z
UID:15808-1771682400-1771682400@www.kleinerdahlkamp.de
SUMMARY:Jahreshauptversammlung
DESCRIPTION:
URL:https://www.kleinerdahlkamp.de/event/jahreshauptversammlung/
LOCATION:Vereinshaus
CATEGORIES:Veranstaltung
END:VEVENT
BEGIN:VEVENT
DTSTART;TZID=Europe/Berlin:20260101T140000
DTEND;TZID=Europe/Berlin:20260101T140000
DTSTAMP:20260421T133811
CREATED:20241120T142133Z
LAST-MODIFIED:20251214T211237Z
UID:15804-1767276000-1767276000@www.kleinerdahlkamp.de
SUMMARY:Neujahrsempfang
DESCRIPTION:
URL:https://www.kleinerdahlkamp.de/event/neujahrsempfang-2/
LOCATION:Vereinshaus
CATEGORIES:Veranstaltung
END:VEVENT
BEGIN:VEVENT
DTSTART;TZID=Europe/Berlin:20261010T180000
DTEND;TZID=Europe/Berlin:20261010T180000
DTSTAMP:20260421T133811
CREATED:20241120T145535Z
LAST-MODIFIED:20251214T212905Z
UID:15822-1791655200-1791655200@www.kleinerdahlkamp.de
SUMMARY:Herbstfest
DESCRIPTION:
URL:https://www.kleinerdahlkamp.de/event/herbstfest/
LOCATION:Vereinshaus
CATEGORIES:Veranstaltung
END:VEVENT
END:VCALENDAR